BEGIN:VCALENDAR
VERSION:2.0
PRODID:-//Skf Vechta - ECPv6.13.2.1//NONSGML v1.0//EN
CALSCALE:GREGORIAN
METHOD:PUBLISH
X-WR-CALNAME:Skf Vechta
X-ORIGINAL-URL:https://www.skf-vechta.de
X-WR-CALDESC:Veranstaltungen für Skf Vechta
REFRESH-INTERVAL;VALUE=DURATION:PT1H
X-Robots-Tag:noindex
X-PUBLISHED-TTL:PT1H
BEGIN:VTIMEZONE
TZID:Europe/Berlin
BEGIN:DAYLIGHT
TZOFFSETFROM:+0100
TZOFFSETTO:+0200
TZNAME:CEST
DTSTART:20230326T010000
END:DAYLIGHT
BEGIN:STANDARD
TZOFFSETFROM:+0200
TZOFFSETTO:+0100
TZNAME:CET
DTSTART:20231029T010000
END:STANDARD
END:VTIMEZONE
BEGIN:VEVENT
DTSTART;TZID=Europe/Berlin:20231101T080000
DTEND;TZID=Europe/Berlin:20231101T170000
DTSTAMP:20260422T025243
CREATED:20230620T082900Z
LAST-MODIFIED:20230620T082900Z
UID:8755-1698825600-1698858000@www.skf-vechta.de
SUMMARY:Café Kinderwagen
DESCRIPTION:14-tägig mittwochs (jede gerade KW) von 15:00 – 17:00 Uhr in der Kita St. Elisabeth in Vörden
URL:https://www.skf-vechta.de/termin/cafe-kinderwagen-16/
LOCATION:St. Elisabeth Kita\, Hinnenkamper Kirchweg 2\, Neuenkirchen-Vörden\, 49434
CATEGORIES:Familienhebammendienst
END:VEVENT
BEGIN:VEVENT
DTSTART;TZID=Europe/Berlin:20231115T150000
DTEND;TZID=Europe/Berlin:20231115T170000
DTSTAMP:20260422T025243
CREATED:20230620T082958Z
LAST-MODIFIED:20230620T082958Z
UID:8758-1700060400-1700067600@www.skf-vechta.de
SUMMARY:Café Kinderwagen
DESCRIPTION:14-tägig mittwochs (jede gerade KW) von 15:00 – 17:00 Uhr in der Kita St. Elisabeth in Vörden
URL:https://www.skf-vechta.de/termin/cafe-kinderwagen-17/
LOCATION:St. Elisabeth Kita\, Hinnenkamper Kirchweg 2\, Neuenkirchen-Vörden\, 49434
CATEGORIES:Familienhebammendienst
END:VEVENT
BEGIN:VEVENT
DTSTART;TZID=Europe/Berlin:20231128T093000
DTEND;TZID=Europe/Berlin:20231128T113000
DTSTAMP:20260422T025243
CREATED:20230620T084443Z
LAST-MODIFIED:20230620T084443Z
UID:8772-1701163800-1701171000@www.skf-vechta.de
SUMMARY:Offener Treff für Schwangere und Mütter
DESCRIPTION:jeden letzten Dienstag im Monat von 09:30 – 11:30 Uhr im Haus der Begegnung in Lohne
URL:https://www.skf-vechta.de/termin/offener-treff-fuer-schwangere-und-muetter-7/
LOCATION:Haus der Begegnung\, Neuer Markt 4\, Lohne\, 49393
CATEGORIES:Familienhebammendienst
END:VEVENT
BEGIN:VEVENT
DTSTART;TZID=Europe/Berlin:20231129T150000
DTEND;TZID=Europe/Berlin:20231129T170000
DTSTAMP:20260422T025243
CREATED:20230620T083059Z
LAST-MODIFIED:20230620T083059Z
UID:8761-1701270000-1701277200@www.skf-vechta.de
SUMMARY:Café Kinderwagen
DESCRIPTION:14-tägig mittwochs (jede gerade KW) von 15:00 – 17:00 Uhr in der Kita St. Elisabeth in Vörden
URL:https://www.skf-vechta.de/termin/cafe-kinderwagen-18/
LOCATION:St. Elisabeth Kita\, Hinnenkamper Kirchweg 2\, Neuenkirchen-Vörden\, 49434
CATEGORIES:Familienhebammendienst
END:VEVENT
BEGIN:VEVENT
DTSTART;TZID=Europe/Berlin:20231130T093000
DTEND;TZID=Europe/Berlin:20231130T113000
DTSTAMP:20260422T025243
CREATED:20230620T085506Z
LAST-MODIFIED:20230623T095648Z
UID:8781-1701336600-1701343800@www.skf-vechta.de
SUMMARY:Elternfrühstück
DESCRIPTION:jeden letzten Donnerstag im Monat von 09:30 – 11:30 Uhr im SkF Damme (Außenstelle)
URL:https://www.skf-vechta.de/termin/eltternfruehstueck/
LOCATION:Skf Damme\, Gartenstraße 1\, Damme\, 49401
CATEGORIES:Familienhebammendienst
END:VEVENT
BEGIN:VEVENT
DTSTART;TZID=Europe/Berlin:20231130T093000
DTEND;TZID=Europe/Berlin:20231130T113000
DTSTAMP:20260422T025243
CREATED:20230620T085815Z
LAST-MODIFIED:20230620T085815Z
UID:8787-1701336600-1701343800@www.skf-vechta.de
SUMMARY:Elternfrühstück
DESCRIPTION:jeden letzten Donnerstag im Monat von 09:30 – 11:30 Uhr im SkF Damme (Außenstelle)
URL:https://www.skf-vechta.de/termin/elternfruehstueck-9/
LOCATION:Skf Damme\, Gartenstraße 1\, Damme\, 49401
CATEGORIES:Familienhebammendienst
END:VEVENT
END:VCALENDAR