BEGIN:VCALENDAR
VERSION:2.0
PRODID:-//Skf Vechta - ECPv6.13.2.1//NONSGML v1.0//EN
CALSCALE:GREGORIAN
METHOD:PUBLISH
X-WR-CALNAME:Skf Vechta
X-ORIGINAL-URL:https://www.skf-vechta.de
X-WR-CALDESC:Veranstaltungen für Skf Vechta
REFRESH-INTERVAL;VALUE=DURATION:PT1H
X-Robots-Tag:noindex
X-PUBLISHED-TTL:PT1H
BEGIN:VTIMEZONE
TZID:Europe/Berlin
BEGIN:DAYLIGHT
TZOFFSETFROM:+0100
TZOFFSETTO:+0200
TZNAME:CEST
DTSTART:20240331T010000
END:DAYLIGHT
BEGIN:STANDARD
TZOFFSETFROM:+0200
TZOFFSETTO:+0100
TZNAME:CET
DTSTART:20241027T010000
END:STANDARD
END:VTIMEZONE
BEGIN:VEVENT
DTSTART;TZID=Europe/Berlin:20240919T183000
DTEND;TZID=Europe/Berlin:20240919T200000
DTSTAMP:20260421T111057
CREATED:20240617T054941Z
LAST-MODIFIED:20240617T062054Z
UID:9720-1726770600-1726776000@www.skf-vechta.de
SUMMARY:Rechtliche Grundlagen für ehrenamtliche Betreuer*innen
DESCRIPTION:Rechtliche Grundlagen\, Fr. gr. Beilage (Rechtspflegerin) \nDo.\, 19\,09.2024\, 18.30 Uhr \nAuch erfahrene Betreuer*innen sind zu diesen Veranstaltungen herzlich eingeladen! \nFür alle Termine wird unter 04441 9290 – 0 um Anmeldung gebeten.
URL:https://www.skf-vechta.de/termin/rechtliche-grundlagen-fuer-ehrenamtliche-betreuerinnen/
LOCATION:Skf Vechta\, Kronenstraße 5\, Vechta\, 49377
CATEGORIES:Betreuungsverein
END:VEVENT
BEGIN:VEVENT
DTSTART;TZID=Europe/Berlin:20240925T143000
DTEND;TZID=Europe/Berlin:20240925T160000
DTSTAMP:20260421T111057
CREATED:20240617T061101Z
LAST-MODIFIED:20240617T062750Z
UID:9732-1727274600-1727280000@www.skf-vechta.de
SUMMARY:Betreuertreff in Vechta
DESCRIPTION:Erfahrungsaustausch für Betreuer*innen aus Vechta\, Lohne und dem Nordkreis \nam Mittwoch den 25.09.2024 um 14.30 Uhr im SkF Vechta. \nUm Anmeldung unter 04441 9290 – 0 wird gebeten.
URL:https://www.skf-vechta.de/termin/betreuertreff-in-vechta-2/
LOCATION:Skf Vechta\, Kronenstraße 5\, Vechta\, 49377
CATEGORIES:Betreuungsverein
END:VEVENT
BEGIN:VEVENT
DTSTART;TZID=Europe/Berlin:20240926T143000
DTEND;TZID=Europe/Berlin:20240926T160000
DTSTAMP:20260421T111057
CREATED:20240617T062629Z
LAST-MODIFIED:20240617T062629Z
UID:9744-1727361000-1727366400@www.skf-vechta.de
SUMMARY:Betreuertreff in Damme
DESCRIPTION:Erfahrungsaustausch für Betreuer*innen aus dem Südkreis \nam Donnerstag  den 26.09.2024 um 14.30 Uhr in der Außenstelle in Damme. \nUm Anmeldung unter 04441 9290 – 0 wird gebeten
URL:https://www.skf-vechta.de/termin/betreuertreff-in-damme-2/
LOCATION:Skf Damme\, Gartenstraße 1\, Damme\, 49401
CATEGORIES:Betreuungsverein
END:VEVENT
END:VCALENDAR