BEGIN:VCALENDAR
VERSION:2.0
PRODID:-//Skf Vechta - ECPv6.13.2.1//NONSGML v1.0//EN
CALSCALE:GREGORIAN
METHOD:PUBLISH
X-ORIGINAL-URL:https://www.skf-vechta.de
X-WR-CALDESC:Veranstaltungen für Skf Vechta
REFRESH-INTERVAL;VALUE=DURATION:PT1H
X-Robots-Tag:noindex
X-PUBLISHED-TTL:PT1H
BEGIN:VTIMEZONE
TZID:Europe/Berlin
BEGIN:DAYLIGHT
TZOFFSETFROM:+0100
TZOFFSETTO:+0200
TZNAME:CEST
DTSTART:20230326T010000
END:DAYLIGHT
BEGIN:STANDARD
TZOFFSETFROM:+0200
TZOFFSETTO:+0100
TZNAME:CET
DTSTART:20231029T010000
END:STANDARD
END:VTIMEZONE
BEGIN:VEVENT
DTSTART;TZID=Europe/Berlin:20231130T180000
DTEND;TZID=Europe/Berlin:20231130T200000
DTSTAMP:20260422T071642
CREATED:20230623T095843Z
LAST-MODIFIED:20230623T095843Z
UID:8847-1701367200-1701374400@www.skf-vechta.de
SUMMARY:Vortrag Rechte und Pflichten eines rechtlichen Betreuers
DESCRIPTION:Vortrag über Rechte und Pflichten eines rechtlichen Betreuers mit Frau gr. Beilage (Rechtspflegerin)
URL:https://www.skf-vechta.de/termin/vortrag-rechte-und-pflichten-eines-rechtlichen-betreuers-2/
LOCATION:Skf Vechta\, Kronenstraße 5\, Vechta\, 49377
CATEGORIES:Betreuungsverein
END:VEVENT
END:VCALENDAR