BEGIN:VCALENDAR
VERSION:2.0
PRODID:-//Skf Vechta - ECPv6.13.2.1//NONSGML v1.0//EN
CALSCALE:GREGORIAN
METHOD:PUBLISH
X-ORIGINAL-URL:https://www.skf-vechta.de
X-WR-CALDESC:Veranstaltungen für Skf Vechta
REFRESH-INTERVAL;VALUE=DURATION:PT1H
X-Robots-Tag:noindex
X-PUBLISHED-TTL:PT1H
BEGIN:VTIMEZONE
TZID:Europe/Berlin
BEGIN:DAYLIGHT
TZOFFSETFROM:+0100
TZOFFSETTO:+0200
TZNAME:CEST
DTSTART:20250330T010000
END:DAYLIGHT
BEGIN:STANDARD
TZOFFSETFROM:+0200
TZOFFSETTO:+0100
TZNAME:CET
DTSTART:20251026T010000
END:STANDARD
END:VTIMEZONE
BEGIN:VEVENT
DTSTART;TZID=Europe/Berlin:20250902T093000
DTEND;TZID=Europe/Berlin:20250902T113000
DTSTAMP:20260422T104459
CREATED:20250106T101845Z
LAST-MODIFIED:20250106T101845Z
UID:10314-1756805400-1756812600@www.skf-vechta.de
SUMMARY:Kaffee mit Herz
DESCRIPTION:Kaffee mit Herz\n\nNeben einem reichhaltigen\, gesunden Frühstück ist ausreichend Platz für Gespräche rund um Familie und Kind. Das gemeinsame Frühstück lädt Sie ein\, miteinander in Kontakt zu kommen und sich auszutauschen. Die Kinder haben Raum zum Spielen. Die Teilnahme ist kostenlos. \nTermine beim SkF Vechta (Warme Stube – Kronenstraße 9): einmal monatlich\, jeden 1. Dienstag (i.d.R.) zwischen 09.30 – 11.30 Uhr \nAnsprechpartnerin: Sandra Hackmann\, Telefon 0 44 41 – 92 90 -0
URL:https://www.skf-vechta.de/termin/kaffee-mit-herz-13/
LOCATION:Warme Stube\, Kronenstraße 9\, Vechta\, 49377\, Deutschland
CATEGORIES:Schwangerschaftsberatung,Warme Stube
END:VEVENT
BEGIN:VEVENT
DTSTART;TZID=Europe/Berlin:20250902T150000
DTEND;TZID=Europe/Berlin:20250902T173000
DTSTAMP:20260422T104459
CREATED:20250204T085113Z
LAST-MODIFIED:20250204T085113Z
UID:10390-1756825200-1756834200@www.skf-vechta.de
SUMMARY:Wir informieren über den Weg\, Pflege- oder Adoptiveltern zu werden
DESCRIPTION:Wir informieren über den Weg\, Pflege- oder Adoptiveltern zu werden \nBitte melden Sie sich dafür bei uns an! \nO4441/9290-14 oder -27\npflegekinderdienst@skf-vechta.de\nadoption@skf-vechta.de \nWir freuen uns auf Sie!
URL:https://www.skf-vechta.de/termin/wir-informieren-ueber-den-weg-pflege-oder-adoptiveltern-zu-werden-7/
LOCATION:Skf Vechta\, Kronenstraße 5\, Vechta\, 49377
CATEGORIES:Adoptionsdienst,Pflegekinderdienst
END:VEVENT
BEGIN:VEVENT
DTSTART;TZID=Europe/Berlin:20250904T143000
DTEND;TZID=Europe/Berlin:20250904T163000
DTSTAMP:20260422T104459
CREATED:20250709T113426Z
LAST-MODIFIED:20250709T113426Z
UID:10622-1756996200-1757003400@www.skf-vechta.de
SUMMARY:Betreuertreff in Vechta
DESCRIPTION:Erfahrungsaustausch für Betreuer*innen aus Vechta\, Lohne und dem Nordkreis \nam Donnerstag den 04.09.2025 um 14.30 Uhr im SkF Vechta. \nUm Anmeldung unter 04441 9290 – 0 wird gebeten.
URL:https://www.skf-vechta.de/termin/betreuertreff-in-vechta-8/
LOCATION:Skf Vechta\, Kronenstraße 5\, Vechta\, 49377
CATEGORIES:Betreuungsverein
END:VEVENT
END:VCALENDAR